BEGIN:VCALENDAR
PRODID:-//eluceo/ical//2.0/EN
VERSION:2.0
CALSCALE:GREGORIAN
BEGIN:VEVENT
UID:7bfd5c55425b55a0165765d2f8f42b66
DTSTAMP:20260424T210636Z
SUMMARY:Regular Meeting
DESCRIPTION:
URL:https://luxembourg.rotaractbelux.org/nl/agenda/show/93365
DTSTART;TZID=Europe/Zurich:20260218T193000
DTEND;TZID=Europe/Zurich:20260218T210000
LOCATION:Meeting Point - Lady Jane\, 32 Rue de l'Eau\, 2536 Ville-Haute Lux
 embourg
CATEGORIES:Rotaract
END:VEVENT
BEGIN:VTIMEZONE
TZID:Europe/Zurich
BEGIN:STANDARD
DTSTART:20260218T193000
TZNAME:CET
TZOFFSETTO:+0100
TZOFFSETFROM:+0100
END:STANDARD
END:VTIMEZONE
END:VCALENDAR
