BEGIN:VCALENDAR
PRODID:-//eluceo/ical//2.0/EN
VERSION:2.0
CALSCALE:GREGORIAN
BEGIN:VEVENT
UID:52b607f4b47a1eaf681f0098a09f2e44
DTSTAMP:20260423T095223Z
SUMMARY:Rotaract Meeting for February
DESCRIPTION:
URL:https://luxembourg.rotaractbelux.org/nl/agenda/show/43446
DTSTART;TZID=Europe/Zurich:20220201T193000
DTEND;TZID=Europe/Zurich:20220201T223000
LOCATION:Oscars Bar ( 9 Bisserweg\, 1238 Lëtzebuerg)
CATEGORIES:Rotaract
END:VEVENT
BEGIN:VTIMEZONE
TZID:Europe/Zurich
BEGIN:STANDARD
DTSTART:20220201T193000
TZNAME:CET
TZOFFSETTO:+0100
TZOFFSETFROM:+0100
END:STANDARD
END:VTIMEZONE
END:VCALENDAR
