BEGIN:VCALENDAR
PRODID:-//eluceo/ical//2.0/EN
VERSION:2.0
CALSCALE:GREGORIAN
BEGIN:VEVENT
UID:b52159e2f6071cedc01d16a2e1fa9a21
DTSTAMP:20260423T151220Z
SUMMARY:Regular Meeting
DESCRIPTION:
URL:https://luxembourg.rotaractbelux.org/fr/agenda/show/93372
DTSTART;TZID=Europe/Zurich:20260617T190000
DTEND;TZID=Europe/Zurich:20260617T210000
LOCATION:Meeting Point - Lady Jane\, 32 Rue de l'Eau\, 2536 Ville-Haute Lux
 embourg
CATEGORIES:Rotaract
END:VEVENT
BEGIN:VTIMEZONE
TZID:Europe/Zurich
BEGIN:DAYLIGHT
DTSTART:20260617T190000
TZNAME:CEST
TZOFFSETTO:+0200
TZOFFSETFROM:+0200
END:DAYLIGHT
END:VTIMEZONE
END:VCALENDAR
