BEGIN:VCALENDAR
PRODID:-//eluceo/ical//2.0/EN
VERSION:2.0
CALSCALE:GREGORIAN
BEGIN:VEVENT
UID:dc9d3cb55646cbff216612d6f28af336
DTSTAMP:20260423T090046Z
SUMMARY:Regular Meeting
DESCRIPTION:
URL:https://luxembourg.rotaractbelux.org/en/agenda/show/93370
DTSTART;TZID=Europe/Zurich:20260520T190000
DTEND;TZID=Europe/Zurich:20260520T203000
LOCATION:Meeting Point - Lady Jane\, 32 Rue de l'Eau\, 2536 Ville-Haute Lux
 embourg
CATEGORIES:Rotaract
END:VEVENT
BEGIN:VTIMEZONE
TZID:Europe/Zurich
BEGIN:DAYLIGHT
DTSTART:20260520T190000
TZNAME:CEST
TZOFFSETTO:+0200
TZOFFSETFROM:+0200
END:DAYLIGHT
END:VTIMEZONE
END:VCALENDAR
